BEGIN:VCALENDAR
VERSION:2.0
PRODID:-//RD Productions | We Bring Concerts to the Midwest - ECPv6.15.20//NONSGML v1.0//EN
CALSCALE:GREGORIAN
METHOD:PUBLISH
X-WR-CALNAME:RD Productions | We Bring Concerts to the Midwest
X-ORIGINAL-URL:https://rdproductionsllc.com
X-WR-CALDESC:Events for RD Productions | We Bring Concerts to the Midwest
REFRESH-INTERVAL;VALUE=DURATION:PT1H
X-Robots-Tag:noindex
X-PUBLISHED-TTL:PT1H
BEGIN:VTIMEZONE
TZID:UTC
BEGIN:STANDARD
TZOFFSETFROM:+0000
TZOFFSETTO:+0000
TZNAME:UTC
DTSTART:20250101T000000
END:STANDARD
END:VTIMEZONE
BEGIN:VEVENT
DTSTART;TZID=UTC:20260709T190000
DTEND;TZID=UTC:20260709T210000
DTSTAMP:20260421T094426
CREATED:20260420T153358Z
LAST-MODIFIED:20260420T153432Z
UID:10000120-1783623600-1783630800@rdproductionsllc.com
SUMMARY:AN INNOCENT BAND BILLY JOEL TRIBUTE
DESCRIPTION:
URL:https://rdproductionsllc.com/concert/an-innocent-band-billy-joel-tribute/
LOCATION:Umbarger Plaza\, 118 Baldwin St\, Bargersville\, IN\, 46106\, United States
CATEGORIES:Bargersville Parks & Rec Free Summer Concert Series,Free
ATTACH;FMTTYPE=image/jpeg:https://rdproductionsllc.com/wp-content/uploads/2026/04/07-09-26-BARG_FB-Cover.jpg
ORGANIZER;CN="RD Productions":MAILTO:rhelms@rdproductionsllc.com
END:VEVENT
BEGIN:VEVENT
DTSTART;TZID=UTC:20260711T180000
DTEND;TZID=UTC:20260711T210000
DTSTAMP:20260421T094426
CREATED:20260225T192809Z
LAST-MODIFIED:20260326T182114Z
UID:10000092-1783792800-1783803600@rdproductionsllc.com
SUMMARY:Family Tradition (Hank Williams Jr. Tribute) and Eliminator (ZZ Top Tribute)
DESCRIPTION:
URL:https://rdproductionsllc.com/concert/family-tradition-hank-williams-jr-tribute-eliminator-zz-top-tribute/
LOCATION:Cedar Creek Winery\, Brewing Company\, Distillery & Eatery\, 3820 Leonard Rd\, Martinsville\, IN\, 46151\, United States
CATEGORIES:Drink at the Creek Concert Series
ATTACH;FMTTYPE=image/jpeg:https://rdproductionsllc.com/wp-content/uploads/2026/02/07-11-26-DATC_Square.jpg
ORGANIZER;CN="RD Productions":MAILTO:rhelms@rdproductionsllc.com
END:VEVENT
BEGIN:VEVENT
DTSTART;TZID=UTC:20260716T190000
DTEND;TZID=UTC:20260716T210000
DTSTAMP:20260421T094426
CREATED:20260420T200140Z
LAST-MODIFIED:20260420T200140Z
UID:10000139-1784228400-1784235600@rdproductionsllc.com
SUMMARY:Big Rosco & The Hammers
DESCRIPTION:
URL:https://rdproductionsllc.com/concert/big-rosco-the-hammers/
LOCATION:Pioneer Park\, 1101 Indianapolis Rd\, Mooresville\, IN\, 46158\, United States
CATEGORIES:Free,Mooresville Free Summer Concert Series.
ATTACH;FMTTYPE=image/jpeg:https://rdproductionsllc.com/wp-content/uploads/2026/04/07-16-26-MOORE_FB-Cover.jpg
ORGANIZER;CN="RD Productions":MAILTO:rhelms@rdproductionsllc.com
END:VEVENT
BEGIN:VEVENT
DTSTART;TZID=UTC:20260718T190000
DTEND;TZID=UTC:20260718T220000
DTSTAMP:20260421T094426
CREATED:20260204T180531Z
LAST-MODIFIED:20260326T182138Z
UID:10000086-1784401200-1784412000@rdproductionsllc.com
SUMMARY:Strutter (KISS Tribute) and Grunge (The Sounds of Seattle)
DESCRIPTION:Tickets on sale for Truesdel Heating\, Cooling & Maintenance Summer Concert Series\, the Party Series go on sale April 4\, 2026 at 2:00pm tier10tickets.com \n \n 
URL:https://rdproductionsllc.com/concert/strutter-kiss-tribute-grunge-the-sounds-of-seattle/
LOCATION:Tier 10 Music & Sports Park\, 2499 IN-43\, Spencer\, IN\, 47460\, United States
CATEGORIES:Tier 10
ATTACH;FMTTYPE=image/jpeg:https://rdproductionsllc.com/wp-content/uploads/2026/02/07-18-26-Tier-10_Square.jpg
ORGANIZER;CN="RD Productions":MAILTO:rhelms@rdproductionsllc.com
END:VEVENT
BEGIN:VEVENT
DTSTART;TZID=UTC:20260718T193000
DTEND;TZID=UTC:20260718T210000
DTSTAMP:20260421T094426
CREATED:20260225T201149Z
LAST-MODIFIED:20260326T182155Z
UID:10000106-1784403000-1784408400@rdproductionsllc.com
SUMMARY:Jay Gates (A Barry Manilow Tribute)
DESCRIPTION:
URL:https://rdproductionsllc.com/concert/jay-gates-a-barry-manilow-tribute/
LOCATION:The Met\, 36 East Morgan Street\, Martinsville\, Indiana\, 46151
CATEGORIES:The MET
ATTACH;FMTTYPE=image/jpeg:https://rdproductionsllc.com/wp-content/uploads/2026/02/07-18-26-MET_Square-REV-1.jpg
ORGANIZER;CN="RD Productions":MAILTO:rhelms@rdproductionsllc.com
END:VEVENT
BEGIN:VEVENT
DTSTART;TZID=UTC:20260521T190000
DTEND;TZID=UTC:20260521T210000
DTSTAMP:20260421T094426
CREATED:20260420T153600Z
LAST-MODIFIED:20260420T153600Z
UID:10000121-1779390000-1779397200@rdproductionsllc.com
SUMMARY:DEAN MARTINI
DESCRIPTION:
URL:https://rdproductionsllc.com/concert/dean-martini/
LOCATION:Umbarger Plaza\, 118 Baldwin St\, Bargersville\, IN\, 46106\, United States
CATEGORIES:Bargersville Parks & Rec Free Summer Concert Series,Free
ATTACH;FMTTYPE=image/jpeg:https://rdproductionsllc.com/wp-content/uploads/2026/04/07-23-26-BARG_FB-Cover.jpg
ORGANIZER;CN="RD Productions":MAILTO:rhelms@rdproductionsllc.com
END:VEVENT
BEGIN:VEVENT
DTSTART;TZID=UTC:20260725T193000
DTEND;TZID=UTC:20260725T210000
DTSTAMP:20260421T094426
CREATED:20260225T201416Z
LAST-MODIFIED:20260326T182211Z
UID:10000107-1785007800-1785013200@rdproductionsllc.com
SUMMARY:Simply The Best (A Tribute to the Music of Tina Turner)
DESCRIPTION:
URL:https://rdproductionsllc.com/concert/simply-the-best-tina-turner-tribute/
LOCATION:The Met\, 36 East Morgan Street\, Martinsville\, Indiana\, 46151
CATEGORIES:The MET
ATTACH;FMTTYPE=image/jpeg:https://rdproductionsllc.com/wp-content/uploads/2026/02/07-25-26-MET_Square.jpg
ORGANIZER;CN="RD Productions":MAILTO:rhelms@rdproductionsllc.com
END:VEVENT
BEGIN:VEVENT
DTSTART;TZID=UTC:20260730T190000
DTEND;TZID=UTC:20260730T210000
DTSTAMP:20260421T094426
CREATED:20260420T195920Z
LAST-MODIFIED:20260420T195957Z
UID:10000138-1785438000-1785445200@rdproductionsllc.com
SUMMARY:Soul Street
DESCRIPTION:
URL:https://rdproductionsllc.com/concert/soul-street/
LOCATION:Pioneer Park\, 1101 Indianapolis Rd\, Mooresville\, IN\, 46158\, United States
CATEGORIES:Free,Mooresville Free Summer Concert Series.
ATTACH;FMTTYPE=image/jpeg:https://rdproductionsllc.com/wp-content/uploads/2026/04/07-30-26-MOORE_FB-Cover.jpg
ORGANIZER;CN="RD Productions":MAILTO:rhelms@rdproductionsllc.com
END:VEVENT
BEGIN:VEVENT
DTSTART;TZID=UTC:20260801T180000
DTEND;TZID=UTC:20260801T220000
DTSTAMP:20260421T094426
CREATED:20260204T180713Z
LAST-MODIFIED:20260326T182251Z
UID:10000087-1785607200-1785621600@rdproductionsllc.com
SUMMARY:Resurrection (A Journey Tribute) - FANCY SAUCE
DESCRIPTION:Tickets on sale for Truesdel Heating\, Cooling & Maintenance Summer Concert Series\, the Party Series go on sale April 4\, 2026 at 2:00pm tier10tickets.com \n \n 
URL:https://rdproductionsllc.com/concert/resurrection-a-journey-tribute-fancy-sauce/
LOCATION:Tier 10 Music & Sports Park\, 2499 IN-43\, Spencer\, IN\, 47460\, United States
CATEGORIES:Tier 10
ATTACH;FMTTYPE=image/jpeg:https://rdproductionsllc.com/wp-content/uploads/2026/02/08-01-26-Tier-10_Square.jpg
ORGANIZER;CN="RD Productions":MAILTO:rhelms@rdproductionsllc.com
END:VEVENT
BEGIN:VEVENT
DTSTART;TZID=UTC:20260801T193000
DTEND;TZID=UTC:20260801T210000
DTSTAMP:20260421T094426
CREATED:20260225T201541Z
LAST-MODIFIED:20260326T182315Z
UID:10000108-1785612600-1785618000@rdproductionsllc.com
SUMMARY:Sounds of Summer (A Beach Boys Tribute)
DESCRIPTION:
URL:https://rdproductionsllc.com/concert/sounds-of-summer-a-beach-boys-tribute/
LOCATION:The Met\, 36 East Morgan Street\, Martinsville\, Indiana\, 46151
CATEGORIES:The MET
ATTACH;FMTTYPE=image/jpeg:https://rdproductionsllc.com/wp-content/uploads/2026/02/08-01-26-MET_Square.jpg
ORGANIZER;CN="RD Productions":MAILTO:rhelms@rdproductionsllc.com
END:VEVENT
BEGIN:VEVENT
DTSTART;TZID=UTC:20260806T190000
DTEND;TZID=UTC:20260806T210000
DTSTAMP:20260421T094426
CREATED:20260420T195753Z
LAST-MODIFIED:20260420T195753Z
UID:10000137-1786042800-1786050000@rdproductionsllc.com
SUMMARY:The Revelators
DESCRIPTION:
URL:https://rdproductionsllc.com/concert/the-revelators/
LOCATION:Pioneer Park\, 1101 Indianapolis Rd\, Mooresville\, IN\, 46158\, United States
CATEGORIES:Free,Mooresville Free Summer Concert Series.
ATTACH;FMTTYPE=image/jpeg:https://rdproductionsllc.com/wp-content/uploads/2026/04/08-06-26-MOORE_FB-Cover.jpg
ORGANIZER;CN="RD Productions":MAILTO:rhelms@rdproductionsllc.com
END:VEVENT
BEGIN:VEVENT
DTSTART;TZID=UTC:20260808T180000
DTEND;TZID=UTC:20260808T210000
DTSTAMP:20260421T094426
CREATED:20260225T192956Z
LAST-MODIFIED:20260326T182347Z
UID:10000093-1786212000-1786222800@rdproductionsllc.com
SUMMARY:Tennessee Whiskey (A Tribute to Chris Stapleton)• ULTIMATE ERIC CHURCH EXPERIENCE
DESCRIPTION:
URL:https://rdproductionsllc.com/concert/tennessee-whiskey-a-tribute-to-chris-stapleton-ultimate-eric-church-experience/
LOCATION:Cedar Creek Winery\, Brewing Company\, Distillery & Eatery\, 3820 Leonard Rd\, Martinsville\, IN\, 46151\, United States
CATEGORIES:Drink at the Creek Concert Series
ATTACH;FMTTYPE=image/jpeg:https://rdproductionsllc.com/wp-content/uploads/2026/02/08-08-26-DATC_Square.jpg
ORGANIZER;CN="RD Productions":MAILTO:rhelms@rdproductionsllc.com
END:VEVENT
BEGIN:VEVENT
DTSTART;TZID=UTC:20260813T190000
DTEND;TZID=UTC:20260813T210000
DTSTAMP:20260421T094426
CREATED:20260420T153804Z
LAST-MODIFIED:20260420T153804Z
UID:10000122-1786647600-1786654800@rdproductionsllc.com
SUMMARY:GROOVE SMASH
DESCRIPTION:
URL:https://rdproductionsllc.com/concert/groove-smash/
LOCATION:Umbarger Plaza\, 118 Baldwin St\, Bargersville\, IN\, 46106\, United States
CATEGORIES:Bargersville Parks & Rec Free Summer Concert Series,Free
ATTACH;FMTTYPE=image/jpeg:https://rdproductionsllc.com/wp-content/uploads/2026/04/08-13-26-BARG_FB-Cover.jpg
ORGANIZER;CN="RD Productions":MAILTO:rhelms@rdproductionsllc.com
END:VEVENT
BEGIN:VEVENT
DTSTART;TZID=UTC:20260815T193000
DTEND;TZID=UTC:20260815T210000
DTSTAMP:20260421T094426
CREATED:20260225T201724Z
LAST-MODIFIED:20260326T182409Z
UID:10000109-1786822200-1786827600@rdproductionsllc.com
SUMMARY:JAKE HOOT
DESCRIPTION:
URL:https://rdproductionsllc.com/concert/jake-hodt/
LOCATION:The Met\, 36 East Morgan Street\, Martinsville\, Indiana\, 46151
CATEGORIES:The MET
ATTACH;FMTTYPE=image/jpeg:https://rdproductionsllc.com/wp-content/uploads/2026/02/08-15-26-MET_Square-REV-1.jpg
ORGANIZER;CN="RD Productions":MAILTO:rhelms@rdproductionsllc.com
END:VEVENT
BEGIN:VEVENT
DTSTART;TZID=UTC:20260820T190000
DTEND;TZID=UTC:20260820T210000
DTSTAMP:20260421T094426
CREATED:20260420T195337Z
LAST-MODIFIED:20260420T195337Z
UID:10000136-1787252400-1787259600@rdproductionsllc.com
SUMMARY:Tastes Like Chicken
DESCRIPTION:
URL:https://rdproductionsllc.com/concert/tastes-like-chicken-2/
LOCATION:Pioneer Park\, 1101 Indianapolis Rd\, Mooresville\, IN\, 46158\, United States
CATEGORIES:Free,Mooresville Free Summer Concert Series.
ATTACH;FMTTYPE=image/jpeg:https://rdproductionsllc.com/wp-content/uploads/2026/04/08-20-26-MOORE_FB-Cover.jpg
ORGANIZER;CN="RD Productions":MAILTO:rhelms@rdproductionsllc.com
END:VEVENT
BEGIN:VEVENT
DTSTART;TZID=UTC:20260822T180000
DTEND;TZID=UTC:20260822T220000
DTSTAMP:20260421T094426
CREATED:20260204T181024Z
LAST-MODIFIED:20260326T182439Z
UID:10000088-1787421600-1787436000@rdproductionsllc.com
SUMMARY:Jo Dee Messina and Montgomery Gentry Ft. Eddie Montgomery with The Kentucky Headhunters and Dillon Carmichael
DESCRIPTION:Tickets on sale for Truesdel Heating\, Cooling & Maintenance Summer Concert Series\, the Party Series go on sale April 4\, 2026 at 2:00pm tier10tickets.com \n \n 
URL:https://rdproductionsllc.com/concert/jo-dee-messina-and-montgomery-gentry-ft-eddie-montgomery-with-the-kentucky-headhunters-and-dillon-carmichael/
LOCATION:Tier 10 Music & Sports Park\, 2499 IN-43\, Spencer\, IN\, 47460\, United States
CATEGORIES:Tier 10
ATTACH;FMTTYPE=image/jpeg:https://rdproductionsllc.com/wp-content/uploads/2026/02/08-22-26-Tier-10-CC_Square-REV-4.jpg
ORGANIZER;CN="RD Productions":MAILTO:rhelms@rdproductionsllc.com
END:VEVENT
BEGIN:VEVENT
DTSTART;TZID=UTC:20260827T190000
DTEND;TZID=UTC:20260827T210000
DTSTAMP:20260421T094426
CREATED:20260420T153922Z
LAST-MODIFIED:20260420T153922Z
UID:10000123-1787857200-1787864400@rdproductionsllc.com
SUMMARY:THE WOOMBLIES
DESCRIPTION:
URL:https://rdproductionsllc.com/concert/the-woomblies/
LOCATION:Umbarger Plaza\, 118 Baldwin St\, Bargersville\, IN\, 46106\, United States
CATEGORIES:Bargersville Parks & Rec Free Summer Concert Series,Free
ATTACH;FMTTYPE=image/jpeg:https://rdproductionsllc.com/wp-content/uploads/2026/04/08-27-26-BARG_FB-Cover.jpg
ORGANIZER;CN="RD Productions":MAILTO:rhelms@rdproductionsllc.com
END:VEVENT
BEGIN:VEVENT
DTSTART;TZID=UTC:20260829T180000
DTEND;TZID=UTC:20260829T210000
DTSTAMP:20260421T094426
CREATED:20260225T194100Z
LAST-MODIFIED:20260326T182502Z
UID:10000094-1788026400-1788037200@rdproductionsllc.com
SUMMARY:Night Moves (The Ultimate Bob Seger Tribute) and Bell Bottom Revival (Lainey Wilson Tribute)
DESCRIPTION:
URL:https://rdproductionsllc.com/concert/night-moves-the-ultimate-bob-seger-tribute-bell-bottom-revival-lainey-wilson-tribute/
LOCATION:Cedar Creek Winery\, Brewing Company\, Distillery & Eatery\, 3820 Leonard Rd\, Martinsville\, IN\, 46151\, United States
CATEGORIES:Drink at the Creek Concert Series
ATTACH;FMTTYPE=image/jpeg:https://rdproductionsllc.com/wp-content/uploads/2026/02/08-29-26-DATC_Square.jpg
ORGANIZER;CN="RD Productions":MAILTO:rhelms@rdproductionsllc.com
END:VEVENT
BEGIN:VEVENT
DTSTART;TZID=UTC:20260903T190000
DTEND;TZID=UTC:20260903T210000
DTSTAMP:20260421T094426
CREATED:20260420T185145Z
LAST-MODIFIED:20260420T185202Z
UID:10000132-1788462000-1788469200@rdproductionsllc.com
SUMMARY:Flannel Jane
DESCRIPTION:
URL:https://rdproductionsllc.com/concert/flannel-jane/
LOCATION:The Venue\, 183 N Jefferson St\, Martinsville\, IN\, 46151\, United States
CATEGORIES:City of Martinsville Free Summer Concert Series,Free
ATTACH;FMTTYPE=image/jpeg:https://rdproductionsllc.com/wp-content/uploads/2026/04/09-03-26-MART_FB-Cover.jpg
ORGANIZER;CN="RD Productions":MAILTO:rhelms@rdproductionsllc.com
END:VEVENT
BEGIN:VEVENT
DTSTART;TZID=UTC:20260905T180000
DTEND;TZID=UTC:20260905T210000
DTSTAMP:20260421T094426
CREATED:20260225T194256Z
LAST-MODIFIED:20260326T182528Z
UID:10000095-1788631200-1788642000@rdproductionsllc.com
SUMMARY:Henry Lee Summer - Mellencougar - Brandon Santini
DESCRIPTION:
URL:https://rdproductionsllc.com/concert/henry-lee-summer-brandon-santini/
LOCATION:Cedar Creek Winery\, Brewing Company\, Distillery & Eatery\, 3820 Leonard Rd\, Martinsville\, IN\, 46151\, United States
CATEGORIES:Drink at the Creek Concert Series
ATTACH;FMTTYPE=image/jpeg:https://rdproductionsllc.com/wp-content/uploads/2026/02/09-05-26-DATC_Square.jpg
ORGANIZER;CN="RD Productions":MAILTO:rhelms@rdproductionsllc.com
END:VEVENT
BEGIN:VEVENT
DTSTART;TZID=UTC:20260912T180000
DTEND;TZID=UTC:20260912T210000
DTSTAMP:20260421T094426
CREATED:20260204T181238Z
LAST-MODIFIED:20260326T182556Z
UID:10000089-1789236000-1789246800@rdproductionsllc.com
SUMMARY:The American Ride (Toby Keith Tribute) and Cody Ikerd & The Sidewinders
DESCRIPTION:Tickets on sale for Truesdel Heating\, Cooling & Maintenance Summer Concert Series\, the Party Series go on sale April 4\, 2026 at 2:00pm tier10tickets.com \n \n 
URL:https://rdproductionsllc.com/concert/the-american-ride-toby-keith-tribute/
LOCATION:Tier 10 Music & Sports Park\, 2499 IN-43\, Spencer\, IN\, 47460\, United States
CATEGORIES:Tier 10
ATTACH;FMTTYPE=image/jpeg:https://rdproductionsllc.com/wp-content/uploads/2026/02/09-12-26-Tier-10_Square.jpg
ORGANIZER;CN="RD Productions":MAILTO:rhelms@rdproductionsllc.com
END:VEVENT
BEGIN:VEVENT
DTSTART;TZID=UTC:20260912T193000
DTEND;TZID=UTC:20260912T210000
DTSTAMP:20260421T094426
CREATED:20260225T201936Z
LAST-MODIFIED:20260225T203851Z
UID:10000110-1789241400-1789246800@rdproductionsllc.com
SUMMARY:The Flying Toasters
DESCRIPTION:
URL:https://rdproductionsllc.com/concert/the-flying-toasters/
LOCATION:The Met\, 36 East Morgan Street\, Martinsville\, Indiana\, 46151
CATEGORIES:The MET
ATTACH;FMTTYPE=image/jpeg:https://rdproductionsllc.com/wp-content/uploads/2026/02/09-12-26-MET_Square.jpg
ORGANIZER;CN="RD Productions":MAILTO:rhelms@rdproductionsllc.com
END:VEVENT
BEGIN:VEVENT
DTSTART;TZID=UTC:20260913T170000
DTEND;TZID=UTC:20260913T210000
DTSTAMP:20260421T094426
CREATED:20260420T154035Z
LAST-MODIFIED:20260420T154035Z
UID:10000124-1789318800-1789333200@rdproductionsllc.com
SUMMARY:GOSPEL FEST WITH DOWNPOUR PLUS MANY MORE!
DESCRIPTION:
URL:https://rdproductionsllc.com/concert/gospel-fest-with-downpour-plus-many-more/
LOCATION:Umbarger Plaza\, 118 Baldwin St\, Bargersville\, IN\, 46106\, United States
CATEGORIES:Bargersville Parks & Rec Free Summer Concert Series,Free
ATTACH;FMTTYPE=image/jpeg:https://rdproductionsllc.com/wp-content/uploads/2026/04/09-13-26-BARG_FB-Cover.jpg
ORGANIZER;CN="RD Productions":MAILTO:rhelms@rdproductionsllc.com
END:VEVENT
BEGIN:VEVENT
DTSTART;TZID=UTC:20260917T190000
DTEND;TZID=UTC:20260917T210000
DTSTAMP:20260421T094426
CREATED:20260420T185314Z
LAST-MODIFIED:20260420T185314Z
UID:10000133-1789671600-1789678800@rdproductionsllc.com
SUMMARY:Toy Factory
DESCRIPTION:
URL:https://rdproductionsllc.com/concert/toy-factory-2/
LOCATION:The Venue\, 183 N Jefferson St\, Martinsville\, IN\, 46151\, United States
CATEGORIES:City of Martinsville Free Summer Concert Series,Free
ATTACH;FMTTYPE=image/jpeg:https://rdproductionsllc.com/wp-content/uploads/2026/04/09-17-26-MART_FB-Cover.jpg
ORGANIZER;CN="RD Productions":MAILTO:rhelms@rdproductionsllc.com
END:VEVENT
BEGIN:VEVENT
DTSTART;TZID=UTC:20260919T180000
DTEND;TZID=UTC:20260919T220000
DTSTAMP:20260421T094426
CREATED:20260420T201519Z
LAST-MODIFIED:20260420T201519Z
UID:10000143-1789840800-1789855200@rdproductionsllc.com
SUMMARY:Renegade (Styx Tribute)\, Midnight Blue (The Foreigner Experience) & Mullet Over
DESCRIPTION:
URL:https://rdproductionsllc.com/concert/renegade-styx-tribute-midnight-blue-the-foreigner-experience-mullet-over/
LOCATION:Fairbanks Park- Terre Haute\, IN\, 1100 Girl Scout Ln\, Terre Haute\, IN\, 47807\, United States
CATEGORIES:Wine on the Wabash
ATTACH;FMTTYPE=image/jpeg:https://rdproductionsllc.com/wp-content/uploads/2026/04/5e6c84ca-51e2-4dfd-bbe9-7f5e2cf2ee4d.jpg
ORGANIZER;CN="RD Productions":MAILTO:rhelms@rdproductionsllc.com
END:VEVENT
BEGIN:VEVENT
DTSTART;TZID=UTC:20260919T193000
DTEND;TZID=UTC:20260919T210000
DTSTAMP:20260421T094426
CREATED:20260225T202050Z
LAST-MODIFIED:20260326T182638Z
UID:10000111-1789846200-1789851600@rdproductionsllc.com
SUMMARY:Turn to Stone (ELO Tribute)
DESCRIPTION:
URL:https://rdproductionsllc.com/concert/turn-to-stone-elo-tribute/
LOCATION:The Met\, 36 East Morgan Street\, Martinsville\, Indiana\, 46151
CATEGORIES:The MET
ATTACH;FMTTYPE=image/jpeg:https://rdproductionsllc.com/wp-content/uploads/2026/02/09-19-26-MET_Square.jpg
ORGANIZER;CN="RD Productions":MAILTO:rhelms@rdproductionsllc.com
END:VEVENT
BEGIN:VEVENT
DTSTART;TZID=UTC:20260926T180000
DTEND;TZID=UTC:20260926T210000
DTSTAMP:20260421T094426
CREATED:20260225T194426Z
LAST-MODIFIED:20260326T182706Z
UID:10000096-1790445600-1790456400@rdproductionsllc.com
SUMMARY:The Woomblies Rock Orchestra and Atom Heart Mother (Pink Floyd Tribute)
DESCRIPTION:
URL:https://rdproductionsllc.com/concert/the-woomblies-rock-orchestra-atom-heart-mother-pink-floyd-tribute-3/
LOCATION:Cedar Creek Winery\, Brewing Company\, Distillery & Eatery\, 3820 Leonard Rd\, Martinsville\, IN\, 46151\, United States
CATEGORIES:Drink at the Creek Concert Series
ATTACH;FMTTYPE=image/jpeg:https://rdproductionsllc.com/wp-content/uploads/2026/02/09-26-26-DATC_Square.jpg
ORGANIZER;CN="RD Productions":MAILTO:rhelms@rdproductionsllc.com
END:VEVENT
BEGIN:VEVENT
DTSTART;TZID=UTC:20261001T190000
DTEND;TZID=UTC:20261001T210000
DTSTAMP:20260421T094426
CREATED:20260420T185416Z
LAST-MODIFIED:20260420T185416Z
UID:10000134-1790881200-1790888400@rdproductionsllc.com
SUMMARY:BIGG Country
DESCRIPTION:
URL:https://rdproductionsllc.com/concert/bigg-country-3/
LOCATION:The Venue\, 183 N Jefferson St\, Martinsville\, IN\, 46151\, United States
CATEGORIES:City of Martinsville Free Summer Concert Series,Free
ATTACH;FMTTYPE=image/jpeg:https://rdproductionsllc.com/wp-content/uploads/2026/04/10-01-26-MART_FB-Cover.jpg
ORGANIZER;CN="RD Productions":MAILTO:rhelms@rdproductionsllc.com
END:VEVENT
BEGIN:VEVENT
DTSTART;TZID=UTC:20261003T180000
DTEND;TZID=UTC:20261003T210000
DTSTAMP:20260421T094426
CREATED:20260225T194614Z
LAST-MODIFIED:20260309T182548Z
UID:10000097-1791050400-1791061200@rdproductionsllc.com
SUMMARY:HAIRBANGERS BALL• THE BIG 80'S
DESCRIPTION:
URL:https://rdproductionsllc.com/concert/hairbangers-ball-the-big-80s-2/
LOCATION:Cedar Creek Winery\, Brewing Company\, Distillery & Eatery\, 3820 Leonard Rd\, Martinsville\, IN\, 46151\, United States
CATEGORIES:Drink at the Creek Concert Series
ATTACH;FMTTYPE=image/jpeg:https://rdproductionsllc.com/wp-content/uploads/2026/02/10-3-26-DATC_Square.jpg
ORGANIZER;CN="RD Productions":MAILTO:rhelms@rdproductionsllc.com
END:VEVENT
BEGIN:VEVENT
DTSTART;TZID=UTC:20261008T190000
DTEND;TZID=UTC:20261008T210000
DTSTAMP:20260421T094426
CREATED:20260420T154334Z
LAST-MODIFIED:20260420T154334Z
UID:10000125-1791486000-1791493200@rdproductionsllc.com
SUMMARY:Common Ground
DESCRIPTION:
URL:https://rdproductionsllc.com/concert/common-ground/
LOCATION:Morgan County Fairgrounds\, 1749 Hospital Dr\, Martinsville\, IN\, 46151\, United States
CATEGORIES:Fall Foliage Festival Free Entertainment Stage.,Free
ATTACH;FMTTYPE=image/jpeg:https://rdproductionsllc.com/wp-content/uploads/2026/04/10-08-26-FFF_FB-Cover.jpg
ORGANIZER;CN="RD Productions":MAILTO:rhelms@rdproductionsllc.com
END:VEVENT
END:VCALENDAR