BEGIN:VCALENDAR
VERSION:2.0
PRODID:-//RD Productions | We Bring Concerts to the Midwest - ECPv6.15.20//NONSGML v1.0//EN
CALSCALE:GREGORIAN
METHOD:PUBLISH
X-WR-CALNAME:RD Productions | We Bring Concerts to the Midwest
X-ORIGINAL-URL:https://rdproductionsllc.com
X-WR-CALDESC:Events for RD Productions | We Bring Concerts to the Midwest
REFRESH-INTERVAL;VALUE=DURATION:PT1H
X-Robots-Tag:noindex
X-PUBLISHED-TTL:PT1H
BEGIN:VTIMEZONE
TZID:UTC
BEGIN:STANDARD
TZOFFSETFROM:+0000
TZOFFSETTO:+0000
TZNAME:UTC
DTSTART:20250101T000000
END:STANDARD
END:VTIMEZONE
BEGIN:VEVENT
DTSTART;TZID=UTC:20260321T193000
DTEND;TZID=UTC:20260321T210000
DTSTAMP:20260421T081050
CREATED:20260225T195920Z
LAST-MODIFIED:20260225T203228Z
UID:10000099-1774121400-1774126800@rdproductionsllc.com
SUMMARY:MOTOR CITY "THE MOTOWN REVUE"
DESCRIPTION:
URL:https://rdproductionsllc.com/concert/motor-city-the-motown-revue/
LOCATION:The Met\, 36 East Morgan Street\, Martinsville\, Indiana\, 46151
CATEGORIES:The MET
ATTACH;FMTTYPE=image/jpeg:https://rdproductionsllc.com/wp-content/uploads/2026/02/03-21-26-MET_Square-REV-1.jpg
ORGANIZER;CN="RD Productions":MAILTO:rhelms@rdproductionsllc.com
END:VEVENT
BEGIN:VEVENT
DTSTART;TZID=UTC:20260328T190000
DTEND;TZID=UTC:20260328T220000
DTSTAMP:20260421T081050
CREATED:20250503T221157Z
LAST-MODIFIED:20251218T181420Z
UID:10000078-1774724400-1774735200@rdproductionsllc.com
SUMMARY:HomeBank Christian Concert Series ﻿Starring Jason Crabb with Special Guest Joseph Habedank
DESCRIPTION:
URL:https://rdproductionsllc.com/concert/homebank-christian-concert-series-starring-jason-crabb-with-special-guest-joseph-habedank/
LOCATION:Hoosier Harvest Church\, 4085 Leonard Rd\, Martinsville\, IN\, 46151\, United States
CATEGORIES:HomeBank Christian Concert Series
ATTACH;FMTTYPE=image/jpeg:https://rdproductionsllc.com/wp-content/uploads/2025/05/52382b8d-ff8e-4053-9873-1d5576d295d0.jpg
ORGANIZER;CN="RD Productions":MAILTO:rhelms@rdproductionsllc.com
END:VEVENT
BEGIN:VEVENT
DTSTART;TZID=UTC:20260411T193000
DTEND;TZID=UTC:20260411T210000
DTSTAMP:20260421T081050
CREATED:20260225T200149Z
LAST-MODIFIED:20260407T123436Z
UID:10000100-1775935800-1775941200@rdproductionsllc.com
SUMMARY:The Chicago Experience
DESCRIPTION:
URL:https://rdproductionsllc.com/concert/the-chicago-experience/
LOCATION:The Met\, 36 East Morgan Street\, Martinsville\, Indiana\, 46151
CATEGORIES:The MET
ATTACH;FMTTYPE=image/jpeg:https://rdproductionsllc.com/wp-content/uploads/2026/02/04-11-26-MET_Square.jpg
ORGANIZER;CN="RD Productions":MAILTO:rhelms@rdproductionsllc.com
END:VEVENT
BEGIN:VEVENT
DTSTART;TZID=UTC:20260418T193000
DTEND;TZID=UTC:20260418T210000
DTSTAMP:20260421T081050
CREATED:20260225T200314Z
LAST-MODIFIED:20260225T203322Z
UID:10000101-1776540600-1776546000@rdproductionsllc.com
SUMMARY:The 77 Experience
DESCRIPTION:
URL:https://rdproductionsllc.com/concert/the-77-experience/
LOCATION:The Met\, 36 East Morgan Street\, Martinsville\, Indiana\, 46151
CATEGORIES:The MET
ATTACH;FMTTYPE=image/jpeg:https://rdproductionsllc.com/wp-content/uploads/2026/02/04-18-26-MET_Square.jpg
ORGANIZER;CN="RD Productions":MAILTO:rhelms@rdproductionsllc.com
END:VEVENT
BEGIN:VEVENT
DTSTART;TZID=UTC:20260425T190000
DTEND;TZID=UTC:20260425T220000
DTSTAMP:20260421T081050
CREATED:20250503T221345Z
LAST-MODIFIED:20250503T221345Z
UID:10000079-1777143600-1777154400@rdproductionsllc.com
SUMMARY:HomeBank Christian Concert Series ﻿Starring Sidewalk Prophets with Special Guest DownPour
DESCRIPTION:
URL:https://rdproductionsllc.com/concert/homebank-christian-concert-series-starring-sidewalk-prophets-with-special-guest-downpour/
LOCATION:Hoosier Harvest Church\, 4085 Leonard Rd\, Martinsville\, IN\, 46151\, United States
CATEGORIES:HomeBank Christian Concert Series
ATTACH;FMTTYPE=image/jpeg:https://rdproductionsllc.com/wp-content/uploads/2025/05/b1401634-afaa-42fd-85d8-9bcff952db43.jpg
ORGANIZER;CN="RD Productions":MAILTO:rhelms@rdproductionsllc.com
END:VEVENT
BEGIN:VEVENT
DTSTART;TZID=UTC:20260509T180000
DTEND;TZID=UTC:20260509T223000
DTSTAMP:20260421T081050
CREATED:20250127T214342Z
LAST-MODIFIED:20260315T173907Z
UID:10000071-1778349600-1778365800@rdproductionsllc.com
SUMMARY:Hairbangers Ball • Karma
DESCRIPTION:Tickets on sale for Truesdel Heating\, Cooling & Maintenance Summer Concert Series\, the Party Series go on sale April 4\, 2026 at 2:00pm tier10tickets.com \n \n  \n 
URL:https://rdproductionsllc.com/concert/hairbangers-ball-karma/
LOCATION:Tier 10 Music & Sports Park\, 2499 IN-43\, Spencer\, IN\, 47460\, United States
CATEGORIES:Tier 10
ATTACH;FMTTYPE=image/jpeg:https://rdproductionsllc.com/wp-content/uploads/2025/01/05-09-26-Tier-10_Square.jpg
ORGANIZER;CN="RD Productions":MAILTO:rhelms@rdproductionsllc.com
END:VEVENT
BEGIN:VEVENT
DTSTART;TZID=UTC:20260509T193000
DTEND;TZID=UTC:20260509T210000
DTSTAMP:20260421T081050
CREATED:20260225T200458Z
LAST-MODIFIED:20260225T203353Z
UID:10000102-1778355000-1778360400@rdproductionsllc.com
SUMMARY:Madonna The Icon Collection
DESCRIPTION:
URL:https://rdproductionsllc.com/concert/madonna-the-icon-collection/
LOCATION:The Met\, 36 East Morgan Street\, Martinsville\, Indiana\, 46151
CATEGORIES:The MET
ATTACH;FMTTYPE=image/jpeg:https://rdproductionsllc.com/wp-content/uploads/2026/02/05-09-26-MET_Square.jpg
ORGANIZER;CN="RD Productions":MAILTO:rhelms@rdproductionsllc.com
END:VEVENT
BEGIN:VEVENT
DTSTART;TZID=UTC:20260514T190000
DTEND;TZID=UTC:20260514T210000
DTSTAMP:20260421T081050
CREATED:20260420T154856Z
LAST-MODIFIED:20260420T155143Z
UID:10000128-1778785200-1778792400@rdproductionsllc.com
SUMMARY:Electric Rose
DESCRIPTION:
URL:https://rdproductionsllc.com/concert/electric-rose/
LOCATION:The Venue\, 183 N Jefferson St\, Martinsville\, IN\, 46151\, United States
CATEGORIES:City of Martinsville Free Summer Concert Series,Free
ATTACH;FMTTYPE=image/jpeg:https://rdproductionsllc.com/wp-content/uploads/2026/04/05-14-26-MART_FB-Cover.jpg
ORGANIZER;CN="RD Productions":MAILTO:rhelms@rdproductionsllc.com
END:VEVENT
BEGIN:VEVENT
DTSTART;TZID=UTC:20260516T180000
DTEND;TZID=UTC:20260516T210000
DTSTAMP:20260421T081050
CREATED:20260127T210542Z
LAST-MODIFIED:20260309T181222Z
UID:10000050-1778954400-1778965200@rdproductionsllc.com
SUMMARY:Journey from the Heart (Journey and Heart Tribute) Fancy Sauce
DESCRIPTION:
URL:https://rdproductionsllc.com/concert/journey-from-the-heart-journey-and-heart-tribute-fancy-sauce/
LOCATION:Cedar Creek Winery\, Brewing Company\, Distillery & Eatery\, 3820 Leonard Rd\, Martinsville\, IN\, 46151\, United States
CATEGORIES:Drink at the Creek Concert Series
ATTACH;FMTTYPE=image/jpeg:https://rdproductionsllc.com/wp-content/uploads/2026/02/05-16-26-DATC_Square.jpg
ORGANIZER;CN="RD Productions":MAILTO:rhelms@rdproductionsllc.com
END:VEVENT
BEGIN:VEVENT
DTSTART;TZID=UTC:20260521T190000
DTEND;TZID=UTC:20260521T210000
DTSTAMP:20260421T081050
CREATED:20250124T153029Z
LAST-MODIFIED:20260420T152819Z
UID:10000020-1779390000-1779397200@rdproductionsllc.com
SUMMARY:45 RPM THE BRITISH INVASION
DESCRIPTION:
URL:https://rdproductionsllc.com/concert/45-rpm-the-british-invasion/
LOCATION:Umbarger Plaza\, 118 Baldwin St\, Bargersville\, IN\, 46106\, United States
CATEGORIES:Bargersville Parks & Rec Free Summer Concert Series,Free
ATTACH;FMTTYPE=image/jpeg:https://rdproductionsllc.com/wp-content/uploads/2026/04/05-21-26-BARG_FB-Cover.jpg
ORGANIZER;CN="RD Productions":MAILTO:rhelms@rdproductionsllc.com
END:VEVENT
BEGIN:VEVENT
DTSTART;TZID=UTC:20260523T170000
DTEND;TZID=UTC:20260523T210000
DTSTAMP:20260421T081050
CREATED:20260127T210721Z
LAST-MODIFIED:20260326T181834Z
UID:10000052-1779555600-1779570000@rdproductionsllc.com
SUMMARY:Thunderstruck page needs the entire Sabbath "Long Live Ozzy" (Black Sabbath & Ozzy Tribute)
DESCRIPTION:
URL:https://rdproductionsllc.com/concert/thunderstruck-americas-ac-dc-the-classic-rock-experience/
LOCATION:Cedar Creek Winery\, Brewing Company\, Distillery & Eatery\, 3820 Leonard Rd\, Martinsville\, IN\, 46151\, United States
CATEGORIES:Drink at the Creek Concert Series
ATTACH;FMTTYPE=image/jpeg:https://rdproductionsllc.com/wp-content/uploads/2026/02/05-23-26-DATC_Square.jpg
ORGANIZER;CN="RD Productions":MAILTO:rhelms@rdproductionsllc.com
END:VEVENT
BEGIN:VEVENT
DTSTART;TZID=UTC:20260528T190000
DTEND;TZID=UTC:20260528T210000
DTSTAMP:20260421T081050
CREATED:20260420T200600Z
LAST-MODIFIED:20260420T200626Z
UID:10000141-1779994800-1780002000@rdproductionsllc.com
SUMMARY:Jennie DeVoe
DESCRIPTION:
URL:https://rdproductionsllc.com/concert/jennie-devoe/
LOCATION:Pioneer Park\, 1101 Indianapolis Rd\, Mooresville\, IN\, 46158\, United States
CATEGORIES:Free,Mooresville Free Summer Concert Series.
ATTACH;FMTTYPE=image/jpeg:https://rdproductionsllc.com/wp-content/uploads/2026/04/05-28-26-MOORE_FB-Cover.jpg
ORGANIZER;CN="RD Productions":MAILTO:rhelms@rdproductionsllc.com
END:VEVENT
BEGIN:VEVENT
DTSTART;TZID=UTC:20260530T180000
DTEND;TZID=UTC:20260530T210000
DTSTAMP:20260421T081050
CREATED:20260204T180029Z
LAST-MODIFIED:20260326T181900Z
UID:10000084-1780164000-1780174800@rdproductionsllc.com
SUMMARY:The Four Horsemen (Metallica Tribute) and Sins N' Roses (Chicago's Guns N' Roses Illusion)
DESCRIPTION:Tickets on sale for Truesdel Heating\, Cooling & Maintenance Summer Concert Series\, the Party Series go on sale April 4\, 2026 at 2:00pm tier10tickets.com \n \n 
URL:https://rdproductionsllc.com/concert/the-four-horsemen-metalica-tribute-sins-roses-chicagos-guns-n-roses-illusion/
LOCATION:Tier 10 Music & Sports Park\, 2499 IN-43\, Spencer\, IN\, 47460\, United States
CATEGORIES:Tier 10
ATTACH;FMTTYPE=image/jpeg:https://rdproductionsllc.com/wp-content/uploads/2026/02/05-30-26-Tier-10_Square.jpg
ORGANIZER;CN="RD Productions":MAILTO:rhelms@rdproductionsllc.com
END:VEVENT
BEGIN:VEVENT
DTSTART;TZID=UTC:20260530T193000
DTEND;TZID=UTC:20260530T210000
DTSTAMP:20260421T081050
CREATED:20260225T200635Z
LAST-MODIFIED:20260326T181928Z
UID:10000103-1780169400-1780174800@rdproductionsllc.com
SUMMARY:Steamroller (The James Taylor Tribute)
DESCRIPTION:
URL:https://rdproductionsllc.com/concert/steamroller-the-james-taylor-tribute/
LOCATION:The Met\, 36 East Morgan Street\, Martinsville\, Indiana\, 46151
CATEGORIES:The MET
ATTACH;FMTTYPE=image/jpeg:https://rdproductionsllc.com/wp-content/uploads/2026/02/05-30-26-MET_Square-REV-2.jpg
ORGANIZER;CN="RD Productions":MAILTO:rhelms@rdproductionsllc.com
END:VEVENT
BEGIN:VEVENT
DTSTART;TZID=UTC:20260604T190000
DTEND;TZID=UTC:20260604T210000
DTSTAMP:20260421T081050
CREATED:20260420T152957Z
LAST-MODIFIED:20260420T152957Z
UID:10000118-1780599600-1780606800@rdproductionsllc.com
SUMMARY:Bigg Country
DESCRIPTION:
URL:https://rdproductionsllc.com/concert/bigg-country-2/
LOCATION:Umbarger Plaza\, 118 Baldwin St\, Bargersville\, IN\, 46106\, United States
CATEGORIES:Bargersville Parks & Rec Free Summer Concert Series,Free
ATTACH;FMTTYPE=image/jpeg:https://rdproductionsllc.com/wp-content/uploads/2026/04/06-04-26-BARG_FB-Cover.jpg
ORGANIZER;CN="RD Productions":MAILTO:rhelms@rdproductionsllc.com
END:VEVENT
BEGIN:VEVENT
DTSTART;TZID=UTC:20260606T170000
DTEND;TZID=UTC:20260606T210000
DTSTAMP:20260421T081050
CREATED:20260225T192410Z
LAST-MODIFIED:20260326T181946Z
UID:10000091-1780765200-1780779600@rdproductionsllc.com
SUMMARY:Pandora's Box (Aerosmith Tribute) and Whitesnaked (Whitesnake Tribute)
DESCRIPTION:
URL:https://rdproductionsllc.com/concert/pandoras-box-aerosmith-tribute/
LOCATION:Cedar Creek Winery\, Brewing Company\, Distillery & Eatery\, 3820 Leonard Rd\, Martinsville\, IN\, 46151\, United States
CATEGORIES:Drink at the Creek Concert Series
ATTACH;FMTTYPE=image/jpeg:https://rdproductionsllc.com/wp-content/uploads/2026/02/06-06-26-DATC_Square.jpg
ORGANIZER;CN="RD Productions":MAILTO:rhelms@rdproductionsllc.com
END:VEVENT
BEGIN:VEVENT
DTSTART;TZID=UTC:20260606T193000
DTEND;TZID=UTC:20260606T210000
DTSTAMP:20260421T081050
CREATED:20260225T200759Z
LAST-MODIFIED:20260326T182025Z
UID:10000104-1780774200-1780779600@rdproductionsllc.com
SUMMARY:Taylor Made (Taylor Swift Tribute)
DESCRIPTION:
URL:https://rdproductionsllc.com/concert/taylor-made-a-taylor-swift-tribute/
LOCATION:The Met\, 36 East Morgan Street\, Martinsville\, Indiana\, 46151
CATEGORIES:The MET
ATTACH;FMTTYPE=image/jpeg:https://rdproductionsllc.com/wp-content/uploads/2026/02/06-06-26-MET_Square.jpg
ORGANIZER;CN="RD Productions":MAILTO:rhelms@rdproductionsllc.com
END:VEVENT
BEGIN:VEVENT
DTSTART;TZID=UTC:20260611T190000
DTEND;TZID=UTC:20260611T210000
DTSTAMP:20260421T081050
CREATED:20260420T200413Z
LAST-MODIFIED:20260420T200413Z
UID:10000140-1781204400-1781211600@rdproductionsllc.com
SUMMARY:Cook & Belle
DESCRIPTION:
URL:https://rdproductionsllc.com/concert/cook-belle/
LOCATION:Pioneer Park\, 1101 Indianapolis Rd\, Mooresville\, IN\, 46158\, United States
CATEGORIES:Free,Mooresville Free Summer Concert Series.
ATTACH;FMTTYPE=image/jpeg:https://rdproductionsllc.com/wp-content/uploads/2026/04/06-11-26-MOORE_FB-Cover.jpg
ORGANIZER;CN="RD Productions":MAILTO:rhelms@rdproductionsllc.com
END:VEVENT
BEGIN:VEVENT
DTSTART;TZID=UTC:20260613T170000
DTEND;TZID=UTC:20260613T230000
DTSTAMP:20260421T081050
CREATED:20250124T155928Z
LAST-MODIFIED:20260315T173154Z
UID:10000036-1781370000-1781391600@rdproductionsllc.com
SUMMARY:Scotty McCreery & Josh Turner with Lorrie Morgan and BIGG Country
DESCRIPTION:
URL:https://rdproductionsllc.com/concert/scotty-mccreery-josh-turner-with-lorrie-morgan-and-bigg-country/
LOCATION:Morgan County Fairgrounds\, 1749 Hospital Dr\, Martinsville\, IN\, 46151\, United States
CATEGORIES:Morgan County Pre-Fair Country Concert
ATTACH;FMTTYPE=image/jpeg:https://rdproductionsllc.com/wp-content/uploads/2026/02/06-13-26-PFCC_Square.jpg
ORGANIZER;CN="RD Productions":MAILTO:rhelms@rdproductionsllc.com
END:VEVENT
BEGIN:VEVENT
DTSTART;TZID=UTC:20260618T190000
DTEND;TZID=UTC:20260618T210000
DTSTAMP:20260421T081050
CREATED:20260420T153234Z
LAST-MODIFIED:20260420T153234Z
UID:10000119-1781809200-1781816400@rdproductionsllc.com
SUMMARY:The Doo
DESCRIPTION:
URL:https://rdproductionsllc.com/concert/the-doo/
LOCATION:Umbarger Plaza\, 118 Baldwin St\, Bargersville\, IN\, 46106\, United States
CATEGORIES:Bargersville Parks & Rec Free Summer Concert Series,Free
ATTACH;FMTTYPE=image/jpeg:https://rdproductionsllc.com/wp-content/uploads/2026/04/06-18-26-BARG_FB-Cover.jpg
ORGANIZER;CN="RD Productions":MAILTO:rhelms@rdproductionsllc.com
END:VEVENT
BEGIN:VEVENT
DTSTART;TZID=UTC:20260620T180000
DTEND;TZID=UTC:20260620T220000
DTSTAMP:20260421T081050
CREATED:20260420T201040Z
LAST-MODIFIED:20260420T201259Z
UID:10000142-1781978400-1781992800@rdproductionsllc.com
SUMMARY:Henry Lee Summer\, American Fools (Mellencamp Tribute) & The Tommy Kelly Band
DESCRIPTION:
URL:https://rdproductionsllc.com/concert/henry-lee-summer-american-fools-mellencamp-tribute-the-tommy-kelly-band/
LOCATION:Fairbanks Park- Terre Haute\, IN\, 1100 Girl Scout Ln\, Terre Haute\, IN\, 47807\, United States
CATEGORIES:Wine on the Wabash
ATTACH;FMTTYPE=image/jpeg:https://rdproductionsllc.com/wp-content/uploads/2026/04/fc9327d5-b4d0-43e4-b688-0dfa69724d9e.jpg
ORGANIZER;CN="RD Productions":MAILTO:rhelms@rdproductionsllc.com
END:VEVENT
BEGIN:VEVENT
DTSTART;TZID=UTC:20260620T193000
DTEND;TZID=UTC:20260620T210000
DTSTAMP:20260421T081050
CREATED:20260225T200917Z
LAST-MODIFIED:20260326T182051Z
UID:10000105-1781983800-1781989200@rdproductionsllc.com
SUMMARY:Wonderlove (The Stevie Wonder Experience)
DESCRIPTION:
URL:https://rdproductionsllc.com/concert/wonderlove-the-stevie-wonder-experience/
LOCATION:The Met\, 36 East Morgan Street\, Martinsville\, Indiana\, 46151
CATEGORIES:The MET
ATTACH;FMTTYPE=image/jpeg:https://rdproductionsllc.com/wp-content/uploads/2026/02/06-20-26-MET_Square.jpg
ORGANIZER;CN="RD Productions":MAILTO:rhelms@rdproductionsllc.com
END:VEVENT
BEGIN:VEVENT
DTSTART;TZID=UTC:20260625T190000
DTEND;TZID=UTC:20260625T210000
DTSTAMP:20260421T081050
CREATED:20260420T182528Z
LAST-MODIFIED:20260420T184921Z
UID:10000130-1782414000-1782421200@rdproductionsllc.com
SUMMARY:Duke Tumatoe & The Power Trio
DESCRIPTION:
URL:https://rdproductionsllc.com/concert/duke-tumatoe-the-power-trio/
LOCATION:The Venue\, 183 N Jefferson St\, Martinsville\, IN\, 46151\, United States
CATEGORIES:City of Martinsville Free Summer Concert Series,Free
ATTACH;FMTTYPE=image/jpeg:https://rdproductionsllc.com/wp-content/uploads/2026/04/06-25-26-MART_FB-Cover.jpg
ORGANIZER;CN="RD Productions":MAILTO:rhelms@rdproductionsllc.com
END:VEVENT
BEGIN:VEVENT
DTSTART;TZID=UTC:20260627T180000
DTEND;TZID=UTC:20260627T210000
DTSTAMP:20260421T081050
CREATED:20260127T212741Z
LAST-MODIFIED:20260309T181805Z
UID:10000065-1782583200-1782594000@rdproductionsllc.com
SUMMARY:World Turning (Fleetwood Mac Tribute) • Those Damn Torpedoes (Tom Petty Tribute)
DESCRIPTION:
URL:https://rdproductionsllc.com/concert/world-turning-fleetwood-mac-tribute-those-damn-torpedoes-tom-petty-tribute/
LOCATION:Cedar Creek Winery\, Brewing Company\, Distillery & Eatery\, 3820 Leonard Rd\, Martinsville\, IN\, 46151\, United States
CATEGORIES:Drink at the Creek Concert Series
ATTACH;FMTTYPE=image/jpeg:https://rdproductionsllc.com/wp-content/uploads/2026/02/06-27-26-DATC_Square.jpg
ORGANIZER;CN="RD Productions":MAILTO:rhelms@rdproductionsllc.com
END:VEVENT
BEGIN:VEVENT
DTSTART;TZID=UTC:20260702T190000
DTEND;TZID=UTC:20260702T210000
DTSTAMP:20260421T081050
CREATED:20260420T185024Z
LAST-MODIFIED:20260420T185024Z
UID:10000131-1783018800-1783026000@rdproductionsllc.com
SUMMARY:The Big 80's
DESCRIPTION:
URL:https://rdproductionsllc.com/concert/the-big-80s/
LOCATION:The Venue\, 183 N Jefferson St\, Martinsville\, IN\, 46151\, United States
CATEGORIES:City of Martinsville Free Summer Concert Series,Free
ATTACH;FMTTYPE=image/jpeg:https://rdproductionsllc.com/wp-content/uploads/2026/04/07-02-26-MART_FB-Cover.jpg
ORGANIZER;CN="RD Productions":MAILTO:rhelms@rdproductionsllc.com
END:VEVENT
BEGIN:VEVENT
DTSTART;TZID=UTC:20260704T190000
DTEND;TZID=UTC:20260704T220000
DTSTAMP:20260421T081050
CREATED:20260204T180311Z
LAST-MODIFIED:20260204T180311Z
UID:10000085-1783191600-1783202400@rdproductionsllc.com
SUMMARY:July 4TH FREE Concert- BONITA-BLUE RIVER
DESCRIPTION:Tickets on sale for Truesdel Heating\, Cooling & Maintenance Summer Concert Series\, the Party Series go on sale April 4\, 2026 at 2:00pm tier10tickets.com or rdptickets.com \n 
URL:https://rdproductionsllc.com/concert/july-4th-free-concert-bonita-blue-river/
LOCATION:Tier 10 Music & Sports Park\, 2499 IN-43\, Spencer\, IN\, 47460\, United States
CATEGORIES:Free,Tier 10
ATTACH;FMTTYPE=image/jpeg:https://rdproductionsllc.com/wp-content/uploads/2026/02/07-04-26-Tier-10-FREE_Square.jpg
ORGANIZER;CN="RD Productions":MAILTO:rhelms@rdproductionsllc.com
END:VEVENT
BEGIN:VEVENT
DTSTART;TZID=UTC:20260709T190000
DTEND;TZID=UTC:20260709T210000
DTSTAMP:20260421T081050
CREATED:20260420T153358Z
LAST-MODIFIED:20260420T153432Z
UID:10000120-1783623600-1783630800@rdproductionsllc.com
SUMMARY:AN INNOCENT BAND BILLY JOEL TRIBUTE
DESCRIPTION:
URL:https://rdproductionsllc.com/concert/an-innocent-band-billy-joel-tribute/
LOCATION:Umbarger Plaza\, 118 Baldwin St\, Bargersville\, IN\, 46106\, United States
CATEGORIES:Bargersville Parks & Rec Free Summer Concert Series,Free
ATTACH;FMTTYPE=image/jpeg:https://rdproductionsllc.com/wp-content/uploads/2026/04/07-09-26-BARG_FB-Cover.jpg
ORGANIZER;CN="RD Productions":MAILTO:rhelms@rdproductionsllc.com
END:VEVENT
BEGIN:VEVENT
DTSTART;TZID=UTC:20260711T180000
DTEND;TZID=UTC:20260711T210000
DTSTAMP:20260421T081050
CREATED:20260225T192809Z
LAST-MODIFIED:20260326T182114Z
UID:10000092-1783792800-1783803600@rdproductionsllc.com
SUMMARY:Family Tradition (Hank Williams Jr. Tribute) and Eliminator (ZZ Top Tribute)
DESCRIPTION:
URL:https://rdproductionsllc.com/concert/family-tradition-hank-williams-jr-tribute-eliminator-zz-top-tribute/
LOCATION:Cedar Creek Winery\, Brewing Company\, Distillery & Eatery\, 3820 Leonard Rd\, Martinsville\, IN\, 46151\, United States
CATEGORIES:Drink at the Creek Concert Series
ATTACH;FMTTYPE=image/jpeg:https://rdproductionsllc.com/wp-content/uploads/2026/02/07-11-26-DATC_Square.jpg
ORGANIZER;CN="RD Productions":MAILTO:rhelms@rdproductionsllc.com
END:VEVENT
BEGIN:VEVENT
DTSTART;TZID=UTC:20260716T190000
DTEND;TZID=UTC:20260716T210000
DTSTAMP:20260421T081051
CREATED:20260420T200140Z
LAST-MODIFIED:20260420T200140Z
UID:10000139-1784228400-1784235600@rdproductionsllc.com
SUMMARY:Big Rosco & The Hammers
DESCRIPTION:
URL:https://rdproductionsllc.com/concert/big-rosco-the-hammers/
LOCATION:Pioneer Park\, 1101 Indianapolis Rd\, Mooresville\, IN\, 46158\, United States
CATEGORIES:Free,Mooresville Free Summer Concert Series.
ATTACH;FMTTYPE=image/jpeg:https://rdproductionsllc.com/wp-content/uploads/2026/04/07-16-26-MOORE_FB-Cover.jpg
ORGANIZER;CN="RD Productions":MAILTO:rhelms@rdproductionsllc.com
END:VEVENT
BEGIN:VEVENT
DTSTART;TZID=UTC:20260718T190000
DTEND;TZID=UTC:20260718T220000
DTSTAMP:20260421T081051
CREATED:20260204T180531Z
LAST-MODIFIED:20260326T182138Z
UID:10000086-1784401200-1784412000@rdproductionsllc.com
SUMMARY:Strutter (KISS Tribute) and Grunge (The Sounds of Seattle)
DESCRIPTION:Tickets on sale for Truesdel Heating\, Cooling & Maintenance Summer Concert Series\, the Party Series go on sale April 4\, 2026 at 2:00pm tier10tickets.com \n \n 
URL:https://rdproductionsllc.com/concert/strutter-kiss-tribute-grunge-the-sounds-of-seattle/
LOCATION:Tier 10 Music & Sports Park\, 2499 IN-43\, Spencer\, IN\, 47460\, United States
CATEGORIES:Tier 10
ATTACH;FMTTYPE=image/jpeg:https://rdproductionsllc.com/wp-content/uploads/2026/02/07-18-26-Tier-10_Square.jpg
ORGANIZER;CN="RD Productions":MAILTO:rhelms@rdproductionsllc.com
END:VEVENT
END:VCALENDAR